BEGIN:VCALENDAR
VERSION:2.0
PRODID:-//Mountain Stars Quilters Guild - ECPv5.6.0//NONSGML v1.0//EN
CALSCALE:GREGORIAN
METHOD:PUBLISH
X-WR-CALNAME:Mountain Stars Quilters Guild
X-ORIGINAL-URL:https://msquilters.com
X-WR-CALDESC:Events for Mountain Stars Quilters Guild
BEGIN:VTIMEZONE
TZID:America/Los_Angeles
BEGIN:DAYLIGHT
TZOFFSETFROM:-0800
TZOFFSETTO:-0700
TZNAME:PDT
DTSTART:20200308T100000
END:DAYLIGHT
BEGIN:STANDARD
TZOFFSETFROM:-0700
TZOFFSETTO:-0800
TZNAME:PST
DTSTART:20201101T090000
END:STANDARD
END:VTIMEZONE
BEGIN:VEVENT
DTSTART;TZID=America/Los_Angeles:20200508T090000
DTEND;TZID=America/Los_Angeles:20200508T160000
DTSTAMP:20260422T013259
CREATED:20200215T235857Z
LAST-MODIFIED:20200503T145702Z
UID:531-1588928400-1588953600@msquilters.com
SUMMARY:Cancelled! - Mandala Blossom class by Sheila Collins
DESCRIPTION:When it comes to careers\, Sheila Collins is something of a shape-shifter\, changing her profession every decade or so. Most recently she has combined her background in fashion design and graphic design with her love of sewing to focus on dimensional fabric art that is bright\, cheerful\, and fun. Her specialty is fusible applique. Sheila’s creative journey also includes participating in many juried art festivals exhibiting and selling her art. Her presentation is inspiring and will have you smiling. \n \nOn May 8\, Sheila will be demonstrating how to make a Mandala pattern on a 20“ x 20“ canvas. This project is inspired by her love of flowers and uses fusible appliqué and some fancy stitching and gluing. She also likes to add fabric covered buttons to complete her dimensional designs. There is a $12 pattern fee in class. Sheila will collect the fee on the day of the workshop and it can be paid with cash\, credit card or a check. A supply list and pattern in PDF format will be available from Sheila about three weeks before the class. Techniques\, for students who want it to be on a 20” x 20” canvas covered in fabric\, will be demonstrated. However\, quilters are welcome to use the project as a quilted wall hanging instead or applied as wearable art. \n \nThere is no need to cut out your fabric before hand but it will have you moving along at a faster pace. The largest pattern piece can be manipulated to fit in a 5 x 5 square. Therefore you can use a packet or two of 5 x 5 Charm Packs for this project. Peltex or any heavy weight fusible will be used to bring definition and dimension to this activity. This is a three-tiered pattern that will be sewn together before it is adhered to the backing material. This project may not be finished in class but Sheila will go over all the procedures and pattern pieces that will be needed to complete the project. \nThe cost is $50 for guild members with a discount of $5 if paid for by March 30th. For non-members the class fee is $55. \nMandela Blossom Class 2020 Registration Form
URL:https://msquilters.com/event/mandala-blossom-class-by-sheila-collins/
LOCATION:Live Oak Grange\, 120 Gardiner\, Rogue River\, OR\, 97535\, United States
CATEGORIES:Classes,MSQG Events
END:VEVENT
END:VCALENDAR