BEGIN:VCALENDAR
VERSION:2.0
PRODID:-//Mountain Stars Quilters Guild - ECPv5.6.0//NONSGML v1.0//EN
CALSCALE:GREGORIAN
METHOD:PUBLISH
X-WR-CALNAME:Mountain Stars Quilters Guild
X-ORIGINAL-URL:https://msquilters.com
X-WR-CALDESC:Events for Mountain Stars Quilters Guild
BEGIN:VTIMEZONE
TZID:America/Los_Angeles
BEGIN:DAYLIGHT
TZOFFSETFROM:-0800
TZOFFSETTO:-0700
TZNAME:PDT
DTSTART:20220313T100000
END:DAYLIGHT
BEGIN:STANDARD
TZOFFSETFROM:-0700
TZOFFSETTO:-0800
TZNAME:PST
DTSTART:20221106T090000
END:STANDARD
END:VTIMEZONE
BEGIN:VEVENT
DTSTART;TZID=America/Los_Angeles:20220212T090000
DTEND;TZID=America/Los_Angeles:20220212T160000
DTSTAMP:20260422T013929
CREATED:20220214T150248Z
LAST-MODIFIED:20220214T150544Z
UID:2516-1644656400-1644681600@msquilters.com
SUMMARY:Saturday Open Sew - February 2022
DESCRIPTION:Here’s a chance to have a fun day sewing with your Quilt Guild friends on Saturday\, February 12th from 9 am to 4 pm at the Live Oak Grange\, Rogue River (120 Gardiner Street).  You bring one or more projects to work on and we provide cutting mats\, irons and ironing mats. \nBring something to share for a snack or lunch. A hearty soup will be provided by a local chef. Coffee\, decaf and tea will be hot and ready. \nFor questions\, contact Lisa Sherrill at sherrill@sou.edu or 541-601-8052.
URL:https://msquilters.com/event/saturday-open-sew-day-in-february/
CATEGORIES:MSQG Events,Saturday Sew
END:VEVENT
END:VCALENDAR